BEGIN:VCALENDAR
VERSION:2.0
PRODID:icalendar-ruby
CALSCALE:GREGORIAN
METHOD:PUBLISH
BEGIN:VEVENT
DTSTAMP:20260419T115647Z
UID:9-333118@dunbarumc.com
DTSTART:20261018T141500Z
DTEND:20261018T151500Z
CLASS:PUBLIC
CREATED:20260419T041025
DESCRIPTION:Fellowship Time
LAST-MODIFIED:20260419T041025
LOCATION:
SUMMARY:Fellowship Time
URL;VALUE=URI:https://dunbarumc.com/events/fellowship-time/2026-10-18
END:VEVENT
END:VCALENDAR
