BEGIN:VCALENDAR
VERSION:2.0
PRODID:icalendar-ruby
CALSCALE:GREGORIAN
METHOD:PUBLISH
BEGIN:VEVENT
DTSTAMP:20260419T133142Z
UID:9-333119@dunbarumc.com
DTSTART:20261025T141500Z
DTEND:20261025T151500Z
CLASS:PUBLIC
CREATED:20260419T041025
DESCRIPTION:Fellowship Time
LAST-MODIFIED:20260419T041025
LOCATION:
SUMMARY:Fellowship Time
URL;VALUE=URI:https://dunbarumc.com/events/fellowship-time/2026-10-25
END:VEVENT
END:VCALENDAR
