BEGIN:VCALENDAR
VERSION:2.0
PRODID:icalendar-ruby
CALSCALE:GREGORIAN
METHOD:PUBLISH
BEGIN:VEVENT
DTSTAMP:20260422T211509Z
UID:10-337497@dunbarumc.com
DTSTART:20261025T144500Z
DTEND:20261025T154500Z
CLASS:PUBLIC
CREATED:20260422T143723
DESCRIPTION:Sunday Service
LAST-MODIFIED:20260422T143723
LOCATION:1401 Myers Avenue\, Dunbar WV
SUMMARY:Sunday Service
URL;VALUE=URI:https://dunbarumc.com/events/sunday-service/2026-10-25
END:VEVENT
END:VCALENDAR
