BEGIN:VCALENDAR
VERSION:2.0
PRODID:icalendar-ruby
CALSCALE:GREGORIAN
METHOD:PUBLISH
BEGIN:VEVENT
DTSTAMP:20260422T224439Z
UID:10-337704@dunbarumc.com
DTSTART:20261101T154500Z
DTEND:20261101T164500Z
CLASS:PUBLIC
CREATED:20260422T173254
DESCRIPTION:Sunday Service
LAST-MODIFIED:20260422T173254
LOCATION:1401 Myers Avenue\, Dunbar WV
SUMMARY:Sunday Service
URL;VALUE=URI:https://dunbarumc.com/events/sunday-service/2026-11-01
END:VEVENT
END:VCALENDAR
